BEGIN:VCALENDAR
VERSION:2.0
PRODID:-//ZContent.net//ZapCalLib 1.0//EN
CALSCALE:GREGORIAN
METHOD:PUBLISH
BEGIN:VEVENT
DTSTART:20190904T123000
DTEND:20190904T193000
SUMMARY:SMACNA Show 2019 - Hundreds of construction contractors\, engineers
 \, building inspectors\, public officials\, and more will come together fo
 r this annual event.
UID:7electronic-support-systems
DTSTAMP:20260420T094648
DESCRIPTION:Over 500 local consulting engineers\, architects\, area sheet 
 metal contractors\, mechanical contractors and industrial users\, as well 
 as code officials from the City of St. Louis\, St. Louis County\, St. Char
 les County and Jefferson County will be invited guests of SMACNA – St. L
 ouis. Contractors of SMART Local 36\, independent contractors\, trade scho
 ols\, public officials\, and more will be in attendance. Last year's Trade
  Show featured dozens of exhibitors\, hundreds industry experts\, and over
  500 attendees. With the new space\, the event is expected to draw nearly 
 a thousand individuals!
X-ALT-DESCRIPTION:<p style="text-align: left\;" align="center">Over 500 lo
 cal consulting engineers\, architects\, area sheet metal contractors\, mec
 hanical contractors and industrial users\, as well as code officials from 
 the City of St. Louis\, St. Louis County\, St. Charles County and Jefferso
 n County will be invited guests of SMACNA – St. Louis. Contractors of SM
 ART Local 36\, independent contractors\, trade schools\, public officials\
 , and more will be in attendance. Last year's Trade Show featured dozens o
 f exhibitors\, hundreds industry experts\, and over 500 attendees. With th
 e new space\, the event is expected to draw nearly a thousand individuals!
 </p>
LOCATION:Queeny Park- Greensfelder Recreation Complex  550 Weidman Road  Ba
 llwin, MO 63011
END:VEVENT
END:VCALENDAR
