BEGIN:VCALENDAR
VERSION:2.0
PRODID:-//ZContent.net//ZapCalLib 1.0//EN
CALSCALE:GREGORIAN
METHOD:PUBLISH
BEGIN:VEVENT
DTSTART:20190925T110000
DTEND:20190925T180000
SUMMARY:ESS Open House Customer Event - Join us for live music\, food truck
 s\, and a cornhole tournament!
UID:9electronic-support-systems
DTSTAMP:20260420T094547
DESCRIPTION:Join us for live music\, cornhole tournament\, and tasty Oktobe
 rfest beverages!\n11:00am - 2:00pm Food Truck - Pi On the Spot\n1:00pm - 3
 :00pm Cornhole Tournament\n3:00pm - 6:00pm Live Music By Johnny Chase\n4:0
 0pm - 6:00pm Appetizers for evening
X-ALT-DESCRIPTION:<p>Join us for live music\, cornhole tournament\, and tas
 ty Oktoberfest beverages!</p>\n<p>11:00am - 2:00pm Food Truck - Pi On the 
 Spot</p>\n<p>1:00pm - 3:00pm Cornhole Tournament</p>\n<p>3:00pm - 6:00pm L
 ive Music By Johnny Chase</p>\n<p>4:00pm - 6:00pm Appetizers for evening</
 p>
LOCATION:ESS Office - 12926 Hollenberg Dr. Bridgeton, MO 63044
END:VEVENT
END:VCALENDAR
